BEGIN:VCALENDAR
VERSION:2.0
PRODID:-//The DeFeo Groupe | Author Todd DeFeo - ECPv6.15.20//NONSGML v1.0//EN
CALSCALE:GREGORIAN
METHOD:PUBLISH
X-WR-CALNAME:The DeFeo Groupe | Author Todd DeFeo
X-ORIGINAL-URL:https://defeo.biz
X-WR-CALDESC:Events for The DeFeo Groupe | Author Todd DeFeo
REFRESH-INTERVAL;VALUE=DURATION:PT1H
X-Robots-Tag:noindex
X-PUBLISHED-TTL:PT1H
BEGIN:VTIMEZONE
TZID:America/New_York
BEGIN:DAYLIGHT
TZOFFSETFROM:-0500
TZOFFSETTO:-0400
TZNAME:EDT
DTSTART:20230312T070000
END:DAYLIGHT
BEGIN:STANDARD
TZOFFSETFROM:-0400
TZOFFSETTO:-0500
TZNAME:EST
DTSTART:20231105T060000
END:STANDARD
BEGIN:DAYLIGHT
TZOFFSETFROM:-0500
TZOFFSETTO:-0400
TZNAME:EDT
DTSTART:20240310T070000
END:DAYLIGHT
BEGIN:STANDARD
TZOFFSETFROM:-0400
TZOFFSETTO:-0500
TZNAME:EST
DTSTART:20241103T060000
END:STANDARD
BEGIN:DAYLIGHT
TZOFFSETFROM:-0500
TZOFFSETTO:-0400
TZNAME:EDT
DTSTART:20250309T070000
END:DAYLIGHT
BEGIN:STANDARD
TZOFFSETFROM:-0400
TZOFFSETTO:-0500
TZNAME:EST
DTSTART:20251102T060000
END:STANDARD
BEGIN:DAYLIGHT
TZOFFSETFROM:-0500
TZOFFSETTO:-0400
TZNAME:EDT
DTSTART:20260308T070000
END:DAYLIGHT
BEGIN:STANDARD
TZOFFSETFROM:-0400
TZOFFSETTO:-0500
TZNAME:EST
DTSTART:20261101T060000
END:STANDARD
BEGIN:DAYLIGHT
TZOFFSETFROM:-0500
TZOFFSETTO:-0400
TZNAME:EDT
DTSTART:20270314T070000
END:DAYLIGHT
BEGIN:STANDARD
TZOFFSETFROM:-0400
TZOFFSETTO:-0500
TZNAME:EST
DTSTART:20271107T060000
END:STANDARD
END:VTIMEZONE
BEGIN:VEVENT
DTSTART;TZID=America/New_York:20241213T120000
DTEND;TZID=America/New_York:20241213T130000
DTSTAMP:20260421T013406
CREATED:20240104T135817Z
LAST-MODIFIED:20241010T220516Z
UID:43839-1734091200-1734094800@defeo.biz
SUMMARY:Georgia Archives: Oddities on the (Georgia) Rails
DESCRIPTION:While many histories center on dates and places\, they overlook some funnier\, if not downright bizarre\, happenings throughout the years. From armed robberies to a duel between long-time friends\, some of the most intriguing events to happen in history were plain weird. Author Todd DeFeo recounts some of the highlights (or lowlights) that happened on (or near) the rails in Georgia. \nAbout Todd DeFeo \nTodd DeFeo has written extensively about railroads\, authoring several unique railroad books\, including histories of the Atlanta Northern Railway\, the Memphis\, Clarksville & Louisville Railroad and the Western & Atlantic Railroad. His presentations include rare and well-researched anecdotes to bring the stories of those affected by railroad mishaps to life. He is the publisher and editor of Railfanning.org.
URL:https://defeo.biz/event/georgia-archives-2024/
LOCATION:Georgia Archives\, 5800 Jonesboro Road\, Morrow\, GA\, 30260\, United States
END:VEVENT
BEGIN:VEVENT
DTSTART;TZID=America/New_York:20250414T150000
DTEND;TZID=America/New_York:20250414T160000
DTSTAMP:20260421T013406
CREATED:20241216T142150Z
LAST-MODIFIED:20250106T141102Z
UID:45744-1744642800-1744646400@defeo.biz
SUMMARY:Oddities on the Georgia Rails
DESCRIPTION:
URL:https://defeo.biz/event/lenbrook-atlanta-2025/
LOCATION:GA
END:VEVENT
BEGIN:VEVENT
DTSTART;TZID=America/New_York:20250423T123000
DTEND;TZID=America/New_York:20250423T130000
DTSTAMP:20260421T013406
CREATED:20250324T162532Z
LAST-MODIFIED:20260110T002933Z
UID:46178-1745411400-1745413200@defeo.biz
SUMMARY:Rotary Club of Vinings Cumberland
DESCRIPTION:
URL:https://defeo.biz/event/rotary-club-of-vinings-cumberland-april-2025/
LOCATION:GA
END:VEVENT
BEGIN:VEVENT
DTSTART;TZID=America/New_York:20250427T150000
DTEND;TZID=America/New_York:20250427T160000
DTSTAMP:20260421T013406
CREATED:20241203T010657Z
LAST-MODIFIED:20250416T210151Z
UID:45660-1745766000-1745769600@defeo.biz
SUMMARY:Trestles\, Runaway Trains\, and Streetcars: Athens’ Unexpected Railroad History
DESCRIPTION:Athens\, Georgia\, has a deep railroad history\, and it extends beyond the trestle on the back of a local band’s album. It includes a streetcar system that whisked Athenians around town and a narrow-gauge railroad in the region that struggled to connect with The Classic City. The stories of the local railroad history are as heartwarming as they are harrowing.
URL:https://defeo.biz/event/athens-2025/
LOCATION:Athens-Clarke County Library\, 2025 Baxter Street\, Athens\, GA\, 30606\, United States
ATTACH;FMTTYPE=image/jpeg:https://defeo.biz/wp-content/uploads/2024/12/486669081_1080500140773106_4265170658671531767_n.jpg
END:VEVENT
BEGIN:VEVENT
DTSTART;TZID=America/New_York:20250503T103000
DTEND;TZID=America/New_York:20250503T113000
DTSTAMP:20260421T013406
CREATED:20250207T141940Z
LAST-MODIFIED:20250207T152710Z
UID:45999-1746268200-1746271800@defeo.biz
SUMMARY:Keep Smyrna Beautiful Garden Tour
DESCRIPTION:Please check with Keep Smyrna Beautiful for information on how to attend.
URL:https://defeo.biz/event/keep-smyrna-beautiful-garden-tour/
LOCATION:Reed House\, 3080 Atlanta Road\, Smyrna\, GA\, United States
ORGANIZER;CN="Keep Smyrna Beautiful":MAILTO:https://keepsmyrnabeautiful.com/
END:VEVENT
BEGIN:VEVENT
DTSTART;TZID=America/New_York:20250613T190000
DTEND;TZID=America/New_York:20250613T200000
DTSTAMP:20260421T013406
CREATED:20241016T002700Z
LAST-MODIFIED:20241105T212056Z
UID:44984-1749841200-1749844800@defeo.biz
SUMMARY:Death on the Rails in Georgia & Beyond
DESCRIPTION:
URL:https://defeo.biz/event/death-on-the-rails-in-georgia-beyond/
LOCATION:Covenant Presbyterian Church\, 2881 Canton Road\, Marietta\, GA\, 30066\, United States
END:VEVENT
BEGIN:VEVENT
DTSTART;TZID=America/New_York:20250616T130000
DTEND;TZID=America/New_York:20250616T140000
DTSTAMP:20260421T013406
CREATED:20241105T210815Z
LAST-MODIFIED:20250605T011134Z
UID:45537-1750078800-1750082400@defeo.biz
SUMMARY:Slavery and the Southern Railroads
DESCRIPTION:Learn from a railroad historian how the railroad companies in the South were the first to build railroads\, and how they heavily relied on enslaved labor to not only build\, but also operate one of the most extensive railroad networks in the world.
URL:https://defeo.biz/event/slavery-and-the-southern-railroads/
LOCATION:North Cobb Senior Center\, 3900 South Main Street\, Acworth\, GA\, 30101\, United States
END:VEVENT
BEGIN:VEVENT
DTSTART;TZID=America/New_York:20250706T150000
DTEND;TZID=America/New_York:20250706T160000
DTSTAMP:20260421T013406
CREATED:20241203T005540Z
LAST-MODIFIED:20250625T182647Z
UID:45655-1751814000-1751817600@defeo.biz
SUMMARY:An angry mob and a hollow tree: A look at Clarksville’s unexpected railroad history
DESCRIPTION:Clarksville has a deep railroad history\, and three railroads passed through town\, and the city also boasted a streetcar network. Despite the history\, the city has had a love-hate relationship with the railroad. Its first railroad was derided as “beginning in the woods and ending in a hollow tree.” When one railroad faltered\, city leaders regrouped to build a second railroad\, and the outcome was a line named for three states it never reached. \nTodd DeFeo has written extensively about railroads\, authoring several unique railroad books\, including histories of the Memphis\, Clarksville & Louisville Railroad\, the Indiana\, Alabama & Texas Railroad and Clarksville’s streetcar network. His presentations include rare and well-researched anecdotes to bring the stories of those impacted by railroads to life. He is the owner of The DeFeo Groupe and the publisher and editor of Sightseers’ Delight and Railfanning.org.
URL:https://defeo.biz/event/clarksville-2025/
LOCATION:Customs House Museum & Cultural Center\, 200 S Second Street\, Clarksville\, TN\, 37040\, United States
END:VEVENT
BEGIN:VEVENT
DTSTART;TZID=America/New_York:20250719T090000
DTEND;TZID=America/New_York:20250719T100000
DTSTAMP:20260421T013406
CREATED:20250206T181507Z
LAST-MODIFIED:20250207T142022Z
UID:45977-1752915600-1752919200@defeo.biz
SUMMARY:The Unexpected Local Railroad History
DESCRIPTION:Railroad history isn’t always like what the history books tell. Whether it’s the lines that passed through an area or the ones that were proposed but never built\, railroads are the story of the region’s transportation. It was a combination of railroads that made sense\, some that didn’t and ambitions that never made it to fruition. Still these stories provide a valuable insight into the community that was and almost was and provide context for the conversations we have today — and in many ways mirror those we had decades ago.
URL:https://defeo.biz/event/the-unexpected-local-railroad-history/
LOCATION:Donaldson-Bannister Farm\, 4831 Chamblee Dunwoody Road\, Dunwoody\, GA\, 30338\, United States
ORGANIZER;CN="Dunwoody Preservation Trust":MAILTO:info@dunwoodypt.org
END:VEVENT
BEGIN:VEVENT
DTSTART;TZID=America/New_York:20250907T150000
DTEND;TZID=America/New_York:20250907T160000
DTSTAMP:20260421T013406
CREATED:20250116T215202Z
LAST-MODIFIED:20250912T134948Z
UID:45845-1757257200-1757260800@defeo.biz
SUMMARY:The People Who Ran (and Rode) the Trains
DESCRIPTION:Railroads didn’t just pass through Smyrna; many in the area depended on them for their livelihoods. Whether holding high-profile positions such as a conductor or meeting your spouse because of the streetcar\, railroads played a role in many lives. This presentation will look at some of the lesser-known railroad stories throughout history. \nTodd DeFeo has written extensively about railroads\, authoring several unique railroad books\, including histories of the Atlanta Northern Railway\, the Memphis\, Clarksville & Louisville Railroad and the Western & Atlantic Railroad. His presentations include rare and well-researched anecdotes to bring the stories of those impacted by railroads to life. He is the owner of The DeFeo Groupe and the publisher and editor of Railfanning.org.
URL:https://defeo.biz/event/the-people-who-ran-and-rode-the-trains/
LOCATION:Smyrna Public Library\, 100 Village Green Circle SE\, Smyrna\, GA\, 30080\, United States
END:VEVENT
BEGIN:VEVENT
DTSTART;TZID=America/New_York:20251031T070000
DTEND;TZID=America/New_York:20251031T080000
DTSTAMP:20260421T013406
CREATED:20251007T144135Z
LAST-MODIFIED:20260110T002841Z
UID:46941-1761894000-1761897600@defeo.biz
SUMMARY:Railroaders with a connection to Smyrna\, Georgia
DESCRIPTION:
URL:https://defeo.biz/event/railroaders-with-a-connection-to-smyrna-georgia/
LOCATION:GA
END:VEVENT
BEGIN:VEVENT
DTSTART;TZID=America/New_York:20260117T093000
DTEND;TZID=America/New_York:20260117T223000
DTSTAMP:20260421T013406
CREATED:20260110T002815Z
LAST-MODIFIED:20260110T002918Z
UID:47354-1768642200-1768689000@defeo.biz
SUMMARY:The Roswell Railroad Ecosystem
DESCRIPTION:When we think of a railroad\, it’s easy to think of it in a silo. However\, these lines are a small part of a broader railroad network. Throughout history\, smaller roads connected with larger ones\, working together to move passengers and freight. Over the years\, larger railroads began acquiring smaller ones\, expanding their networks and reducing the overall number of railroad companies. The Roswell Railroad is the perfect example of this system. But if we zoom out for a moment\, we can see that the Roswell Railroad wasn’t alone.
URL:https://defeo.biz/event/the-roswell-railroad-ecosystem/
LOCATION:Donaldson-Bannister Farm\, 4831 Chamblee Dunwoody Road\, Dunwoody\, GA\, 30338\, United States
ORGANIZER;CN="Dunwoody Preservation Trust":MAILTO:info@dunwoodypt.org
END:VEVENT
BEGIN:VEVENT
DTSTART;TZID=America/New_York:20260502T100000
DTEND;TZID=America/New_York:20260502T110000
DTSTAMP:20260421T013406
CREATED:20260202T221710Z
LAST-MODIFIED:20260414T191228Z
UID:47435-1777716000-1777719600@defeo.biz
SUMMARY:KSB Garden Tour 2026
DESCRIPTION:
URL:https://defeo.biz/event/ksb-garden-tour-2026/
LOCATION:Reed House\, 3080 Atlanta Road\, Smyrna\, GA\, United States
ORGANIZER;CN="Keep Smyrna Beautiful":MAILTO:https://keepsmyrnabeautiful.com/
END:VEVENT
BEGIN:VEVENT
DTSTART;TZID=America/New_York:20260503T150000
DTEND;TZID=America/New_York:20260503T160000
DTSTAMP:20260421T013406
CREATED:20251007T144410Z
LAST-MODIFIED:20260110T002832Z
UID:46943-1777820400-1777824000@defeo.biz
SUMMARY:The Transcontinental Railroad and Georgia
DESCRIPTION:
URL:https://defeo.biz/event/the-transcontinental-railroad-and-georgia/
LOCATION:Smyrna Public Library\, 100 Village Green Circle SE\, Smyrna\, GA\, 30080\, United States
END:VEVENT
END:VCALENDAR