BEGIN:VCALENDAR
VERSION:2.0
PRODID:-//The DeFeo Groupe | Author Todd DeFeo - ECPv6.15.20//NONSGML v1.0//EN
CALSCALE:GREGORIAN
METHOD:PUBLISH
X-WR-CALNAME:The DeFeo Groupe | Author Todd DeFeo
X-ORIGINAL-URL:https://defeo.biz
X-WR-CALDESC:Events for The DeFeo Groupe | Author Todd DeFeo
REFRESH-INTERVAL;VALUE=DURATION:PT1H
X-Robots-Tag:noindex
X-PUBLISHED-TTL:PT1H
BEGIN:VTIMEZONE
TZID:America/New_York
BEGIN:DAYLIGHT
TZOFFSETFROM:-0500
TZOFFSETTO:-0400
TZNAME:EDT
DTSTART:20250309T070000
END:DAYLIGHT
BEGIN:STANDARD
TZOFFSETFROM:-0400
TZOFFSETTO:-0500
TZNAME:EST
DTSTART:20251102T060000
END:STANDARD
BEGIN:DAYLIGHT
TZOFFSETFROM:-0500
TZOFFSETTO:-0400
TZNAME:EDT
DTSTART:20260308T070000
END:DAYLIGHT
BEGIN:STANDARD
TZOFFSETFROM:-0400
TZOFFSETTO:-0500
TZNAME:EST
DTSTART:20261101T060000
END:STANDARD
BEGIN:DAYLIGHT
TZOFFSETFROM:-0500
TZOFFSETTO:-0400
TZNAME:EDT
DTSTART:20270314T070000
END:DAYLIGHT
BEGIN:STANDARD
TZOFFSETFROM:-0400
TZOFFSETTO:-0500
TZNAME:EST
DTSTART:20271107T060000
END:STANDARD
END:VTIMEZONE
BEGIN:VEVENT
DTSTART;TZID=America/New_York:20260503T150000
DTEND;TZID=America/New_York:20260503T160000
DTSTAMP:20260425T101415
CREATED:20251007T144410Z
LAST-MODIFIED:20260110T002832Z
UID:46943-1777820400-1777824000@defeo.biz
SUMMARY:The Transcontinental Railroad and Georgia
DESCRIPTION:
URL:https://defeo.biz/event/the-transcontinental-railroad-and-georgia/
LOCATION:Smyrna Public Library\, 100 Village Green Circle SE\, Smyrna\, GA\, 30080\, United States
END:VEVENT
BEGIN:VEVENT
DTSTART;TZID=America/New_York:20260715T140000
DTEND;TZID=America/New_York:20260715T150000
DTSTAMP:20260425T101415
CREATED:20260424T143721Z
LAST-MODIFIED:20260424T143906Z
UID:47673-1784124000-1784127600@defeo.biz
SUMMARY:People & Places of the Western & Atlantic Railroad: Roswell?
DESCRIPTION:
URL:https://defeo.biz/event/people-places-of-the-western-atlantic-railroad-roswell/
LOCATION:Vickery Rose\, 295 E Crossville Road\, Roswell\, GA\, 30075\, United States
END:VEVENT
BEGIN:VEVENT
DTSTART;TZID=America/New_York:20260810T190000
DTEND;TZID=America/New_York:20260810T200000
DTSTAMP:20260425T101415
CREATED:20260425T023535Z
LAST-MODIFIED:20260425T023535Z
UID:47677-1786388400-1786392000@defeo.biz
SUMMARY:Death on the Rails in Florida and Beyond
DESCRIPTION:
URL:https://defeo.biz/event/death-on-the-rails-in-florida-and-beyond/
END:VEVENT
END:VCALENDAR